BEGIN:VCALENDAR
VERSION:2.0
PRODID:BIOBS Calendar
METHOD:PUBLISH
BEGIN:VEVENT
DTSTART:20230920T150000Z
DTEND:20230920T150000Z
DTSTAMP:20260424T175722Z
SUMMARY:Anmeldeschluss: she invests: Stärke dein Finanzwissen
CREATED:20260424T175722Z
LAST-MODIFIED:20260424T175722Z
SEQUENCE:0
STATUS:CONFIRMED
TRANSP:OPAQUE
CLASS:PUBLIC
END:VEVENT
END:VCALENDAR
