BEGIN:VCALENDAR
VERSION:2.0
PRODID:BIOBS Calendar
METHOD:PUBLISH
BEGIN:VEVENT
DTSTART:20250304T170000Z
DTEND:20250304T170000Z
DTSTAMP:20260419T121346Z
SUMMARY:Anmeldeschluss: #glaubandich CHALLENGE City-Pitch zu Kultur\, Media und Entertainment
CREATED:20260419T121346Z
LAST-MODIFIED:20260419T121346Z
SEQUENCE:0
STATUS:CONFIRMED
TRANSP:OPAQUE
CLASS:PUBLIC
END:VEVENT
END:VCALENDAR
