BEGIN:VCALENDAR
VERSION:2.0
PRODID:BIOBS Calendar
METHOD:PUBLISH
BEGIN:VEVENT
DTSTART:20260428T160000Z
DTEND:20260428T160000Z
DTSTAMP:20260419T142558Z
SUMMARY:Anmeldeschluss: Informationsabend "Solarenergie und Energiegemeinschaften"
CREATED:20260419T142558Z
LAST-MODIFIED:20260419T142558Z
SEQUENCE:0
STATUS:CONFIRMED
TRANSP:OPAQUE
CLASS:PUBLIC
END:VEVENT
END:VCALENDAR
