BEGIN:VCALENDAR
VERSION:2.0
PRODID:BIOBS Calendar
METHOD:PUBLISH
BEGIN:VEVENT
DTSTART:20260422T160000Z
DTEND:20260422T190000Z
DTSTAMP:20260419T142801Z
SUMMARY:Informationsabend „Solarenergie und Energiegemeinschaften"
CREATED:20260419T142801Z
DESCRIPTION:Erleben Sie aus erster Hand\, wie regionale Energiegemeinschaften funktionieren\, welche konkreten Vorteile sie für Privatpersonen und Unternehmen bieten – und wie einfach der Einstieg heute möglich ist.\n
LAST-MODIFIED:20260419T142801Z
LOCATION:Filiale Villach - Maria-Gailer-Straße Maria Gailer Straße 7 9500 Villach
SEQUENCE:0
STATUS:CONFIRMED
TRANSP:OPAQUE
CLASS:PUBLIC
END:VEVENT
END:VCALENDAR
