BEGIN:VCALENDAR
VERSION:2.0
PRODID:BIOBS Calendar
METHOD:PUBLISH
BEGIN:VEVENT
DTSTART:20230920T150000Z
DTEND:20230920T163000Z
DTSTAMP:20260424T180522Z
SUMMARY:she invests: Stärke dein Finanzwissen
CREATED:20260424T180522Z
DESCRIPTION:Mit she invests erfahren Sie mehr darüber\, wie Sie Ihre Finanzen selbst in die Hand nehmen.\n\nMelden Sie sich gleich zum she invests Webinar in deutscher Sprache \nam 20. September 2023 an.\n\nDen Einstiegslink erhalten Sie am Tag vor dem Event per Mail.\n
LAST-MODIFIED:20260424T180522Z
LOCATION:Online-Event   
SEQUENCE:0
STATUS:CONFIRMED
TRANSP:OPAQUE
CLASS:PUBLIC
END:VEVENT
END:VCALENDAR
