BEGIN:VCALENDAR
VERSION:2.0
PRODID:BIOBS Calendar
METHOD:PUBLISH
BEGIN:VEVENT
DTSTART:20260610T160000Z
DTEND:20260610T190000Z
DTSTAMP:20260419T142005Z
SUMMARY:Informationsabend "Solarenergie und Energiegemeinschaften"
CREATED:20260419T142005Z
DESCRIPTION:Erleben Sie aus erster Hand\, wie regionale Energiegemeinschaften funktionieren\, welche konkreten Vorteile sie für Privatpersonen und Unternehmen bieten – und wie einfach der Einstieg heute möglich ist.\n
LAST-MODIFIED:20260419T142005Z
LOCATION:Filiale St. Veit Hauptplatz 10 9300 St. Veit an der Glan
SEQUENCE:0
STATUS:CONFIRMED
TRANSP:OPAQUE
CLASS:PUBLIC
END:VEVENT
END:VCALENDAR
