BEGIN:VCALENDAR
VERSION:2.0
PRODID:BIOBS Calendar
METHOD:PUBLISH
BEGIN:VEVENT
DTSTART:20260520T160000Z
DTEND:20260520T190000Z
DTSTAMP:20260419T144517Z
SUMMARY:Informationsabend "Solarenergie und Energiegemeinschaften"
CREATED:20260419T144517Z
DESCRIPTION:Erleben Sie aus erster Hand\, wie regionale Energiegemeinschaften funktionieren\, welche konkreten Vorteile sie für Privatpersonen und Unternehmen bieten – und wie einfach der Einstieg heute möglich ist.\n
LAST-MODIFIED:20260419T144517Z
LOCATION:Filiale Wolfsberg – Festsaal Bambergerstraße 4 9400 Wolfsberg
SEQUENCE:0
STATUS:CONFIRMED
TRANSP:OPAQUE
CLASS:PUBLIC
END:VEVENT
END:VCALENDAR
