BEGIN:VCALENDAR
VERSION:2.0
PRODID:BIOBS Calendar
METHOD:PUBLISH
BEGIN:VEVENT
DTSTART:20250304T170000Z
DTEND:20250304T200000Z
DTSTAMP:20260419T121612Z
SUMMARY:#glaubandich CHALLENGE City-Pitch zu Kultur\, Media und Entertainment
CREATED:20260419T121612Z
DESCRIPTION:Sei als Zuschauer:in live dabei beim City-Pitch zu Kultur\, Media &amp\; Entertainment am 4. März 2025 in Oberösterreich.\n
LAST-MODIFIED:20260419T121612Z
LOCATION:Tabakfabrik Linz Eingang Bau 1/3. Stock\, Peter-Behrens-Platz 9\,  4020 Linz
SEQUENCE:0
STATUS:CONFIRMED
GEO:0.0000;0.0000
TRANSP:OPAQUE
CLASS:PUBLIC
END:VEVENT
END:VCALENDAR
