BEGIN:VCALENDAR
VERSION:2.0
PRODID:BIOBS Calendar
METHOD:PUBLISH
BEGIN:VEVENT
DTSTART:20260527T160000Z
DTEND:20260527T190000Z
DTSTAMP:20260419T144321Z
SUMMARY:Informationsabend "Solarenergie und Energiegemeinschaften"
CREATED:20260419T144321Z
DESCRIPTION:Erleben Sie aus erster Hand\, wie regionale Energiegemeinschaften funktionieren\, welche konkreten Vorteile sie für Privatpersonen und Unternehmen bieten – und wie einfach der Einstieg heute möglich ist.\n
LAST-MODIFIED:20260419T144321Z
LOCATION:Filiale Völkermarkterstraße Völkermarkterstraße 138 9020 Klagenfurt
SEQUENCE:0
STATUS:CONFIRMED
TRANSP:OPAQUE
CLASS:PUBLIC
END:VEVENT
END:VCALENDAR
